BEGIN:VCALENDAR
VERSION:2.0
PRODID:-//Mor Abrohom - ECPv6.15.16//NONSGML v1.0//EN
CALSCALE:GREGORIAN
METHOD:PUBLISH
X-WR-CALNAME:Mor Abrohom
X-ORIGINAL-URL:https://mor-abrohom.ch
X-WR-CALDESC:Veranstaltungen im Mor Abrohom
REFRESH-INTERVAL;VALUE=DURATION:PT1H
X-Robots-Tag:noindex
X-PUBLISHED-TTL:PT1H
BEGIN:VTIMEZONE
TZID:Europe/Zurich
BEGIN:DAYLIGHT
TZOFFSETFROM:+0100
TZOFFSETTO:+0200
TZNAME:CEST
DTSTART:20250330T010000
END:DAYLIGHT
BEGIN:STANDARD
TZOFFSETFROM:+0200
TZOFFSETTO:+0100
TZNAME:CET
DTSTART:20251026T010000
END:STANDARD
BEGIN:DAYLIGHT
TZOFFSETFROM:+0100
TZOFFSETTO:+0200
TZNAME:CEST
DTSTART:20260329T010000
END:DAYLIGHT
BEGIN:STANDARD
TZOFFSETFROM:+0200
TZOFFSETTO:+0100
TZNAME:CET
DTSTART:20261025T010000
END:STANDARD
BEGIN:DAYLIGHT
TZOFFSETFROM:+0100
TZOFFSETTO:+0200
TZNAME:CEST
DTSTART:20270328T010000
END:DAYLIGHT
BEGIN:STANDARD
TZOFFSETFROM:+0200
TZOFFSETTO:+0100
TZNAME:CET
DTSTART:20271031T010000
END:STANDARD
END:VTIMEZONE
BEGIN:VEVENT
DTSTART;TZID=Europe/Zurich:20260426T123000
DTEND;TZID=Europe/Zurich:20260426T143000
DTSTAMP:20260420T053129
CREATED:20260215T220951Z
LAST-MODIFIED:20260215T220951Z
UID:2166-1777206600-1777213800@mor-abrohom.ch
SUMMARY:Gottesdienst
DESCRIPTION:
URL:https://mor-abrohom.ch/event/gottesdienst-33/
LOCATION:Katholische Kirche Stadt Zug\, Baarerstrasse 62\, Zug\, 6302\, Schweiz
CATEGORIES:Gottesdienste
END:VEVENT
BEGIN:VEVENT
DTSTART;TZID=Europe/Zurich:20260531T123000
DTEND;TZID=Europe/Zurich:20260531T143000
DTSTAMP:20260420T053129
CREATED:20260215T220950Z
LAST-MODIFIED:20260215T222115Z
UID:2173-1780230600-1780237800@mor-abrohom.ch
SUMMARY:Gottesdienst - Fantikusti
DESCRIPTION:
URL:https://mor-abrohom.ch/event/gottesdienst-fantikusti/
LOCATION:Katholische Kirche Stadt Zug\, Baarerstrasse 62\, Zug\, 6302\, Schweiz
CATEGORIES:Gottesdienste,Spezialgottesdienste
END:VEVENT
BEGIN:VEVENT
DTSTART;TZID=Europe/Zurich:20260628T123000
DTEND;TZID=Europe/Zurich:20260628T143000
DTSTAMP:20260420T053129
CREATED:20260215T220949Z
LAST-MODIFIED:20260215T222115Z
UID:2178-1782649800-1782657000@mor-abrohom.ch
SUMMARY:Gottesdienst - 12 Aposteln
DESCRIPTION:
URL:https://mor-abrohom.ch/event/gottesdienst-12-aposteln/
LOCATION:Katholische Kirche Stadt Zug\, Baarerstrasse 62\, Zug\, 6302\, Schweiz
CATEGORIES:Gottesdienste,Spezialgottesdienste
END:VEVENT
BEGIN:VEVENT
DTSTART;TZID=Europe/Zurich:20260823T123000
DTEND;TZID=Europe/Zurich:20260823T143000
DTSTAMP:20260420T053129
CREATED:20260215T220948Z
LAST-MODIFIED:20260215T220948Z
UID:2184-1787488200-1787495400@mor-abrohom.ch
SUMMARY:Gottesdienst
DESCRIPTION:
URL:https://mor-abrohom.ch/event/gottesdienst-20/
LOCATION:Katholische Kirche Stadt Zug\, Baarerstrasse 62\, Zug\, 6302\, Schweiz
CATEGORIES:Gottesdienste
END:VEVENT
BEGIN:VEVENT
DTSTART;TZID=Europe/Zurich:20260927T123000
DTEND;TZID=Europe/Zurich:20260927T143000
DTSTAMP:20260420T053129
CREATED:20260215T220947Z
LAST-MODIFIED:20260215T220947Z
UID:2191-1790512200-1790519400@mor-abrohom.ch
SUMMARY:Gottesdienst
DESCRIPTION:
URL:https://mor-abrohom.ch/event/gottesdienst-17/
LOCATION:Katholische Kirche Stadt Zug\, Baarerstrasse 62\, Zug\, 6302\, Schweiz
CATEGORIES:Gottesdienste
END:VEVENT
BEGIN:VEVENT
DTSTART;TZID=Europe/Zurich:20261025T123000
DTEND;TZID=Europe/Zurich:20261025T143000
DTSTAMP:20260420T053129
CREATED:20260215T220946Z
LAST-MODIFIED:20260215T220946Z
UID:2196-1792931400-1792938600@mor-abrohom.ch
SUMMARY:Gottesdienst
DESCRIPTION:
URL:https://mor-abrohom.ch/event/gottesdienst-12/
LOCATION:Katholische Kirche Stadt Zug\, Baarerstrasse 62\, Zug\, 6302\, Schweiz
CATEGORIES:Gottesdienste
END:VEVENT
BEGIN:VEVENT
DTSTART;TZID=Europe/Zurich:20261108T100000
DTEND;TZID=Europe/Zurich:20261108T120000
DTSTAMP:20260420T053129
CREATED:20260215T220946Z
LAST-MODIFIED:20260215T222228Z
UID:2199-1794132000-1794139200@mor-abrohom.ch
SUMMARY:Ökumenischer Gottesdienst
DESCRIPTION:
URL:https://mor-abrohom.ch/event/gottesdienst-oekumenisch/
LOCATION:Katholische Kirche Stadt Zug\, Baarerstrasse 62\, Zug\, 6302\, Schweiz
CATEGORIES:Gottesdienste,Oekumenische Gottesdienste
END:VEVENT
BEGIN:VEVENT
DTSTART;TZID=Europe/Zurich:20261129T123000
DTEND;TZID=Europe/Zurich:20261129T143000
DTSTAMP:20260420T053129
CREATED:20260215T220945Z
LAST-MODIFIED:20260215T220945Z
UID:2203-1795955400-1795962600@mor-abrohom.ch
SUMMARY:Gottesdienst
DESCRIPTION:
URL:https://mor-abrohom.ch/event/gottesdienst-6/
LOCATION:Katholische Kirche Stadt Zug\, Baarerstrasse 62\, Zug\, 6302\, Schweiz
CATEGORIES:Gottesdienste
END:VEVENT
END:VCALENDAR