BEGIN:VCALENDAR
VERSION:2.0
PRODID:-//Mor Abrohom - ECPv6.15.16//NONSGML v1.0//EN
CALSCALE:GREGORIAN
METHOD:PUBLISH
X-ORIGINAL-URL:https://mor-abrohom.ch
X-WR-CALDESC:Veranstaltungen im Mor Abrohom
REFRESH-INTERVAL;VALUE=DURATION:PT1H
X-Robots-Tag:noindex
X-PUBLISHED-TTL:PT1H
BEGIN:VTIMEZONE
TZID:Europe/Zurich
BEGIN:DAYLIGHT
TZOFFSETFROM:+0100
TZOFFSETTO:+0200
TZNAME:CEST
DTSTART:20250330T010000
END:DAYLIGHT
BEGIN:STANDARD
TZOFFSETFROM:+0200
TZOFFSETTO:+0100
TZNAME:CET
DTSTART:20251026T010000
END:STANDARD
BEGIN:DAYLIGHT
TZOFFSETFROM:+0100
TZOFFSETTO:+0200
TZNAME:CEST
DTSTART:20260329T010000
END:DAYLIGHT
BEGIN:STANDARD
TZOFFSETFROM:+0200
TZOFFSETTO:+0100
TZNAME:CET
DTSTART:20261025T010000
END:STANDARD
BEGIN:DAYLIGHT
TZOFFSETFROM:+0100
TZOFFSETTO:+0200
TZNAME:CEST
DTSTART:20270328T010000
END:DAYLIGHT
BEGIN:STANDARD
TZOFFSETFROM:+0200
TZOFFSETTO:+0100
TZNAME:CET
DTSTART:20271031T010000
END:STANDARD
END:VTIMEZONE
BEGIN:VEVENT
DTSTART;TZID=Europe/Zurich:20260524T120000
DTEND;TZID=Europe/Zurich:20260524T140000
DTSTAMP:20260420T053057
CREATED:20260215T220950Z
LAST-MODIFIED:20260215T220950Z
UID:2171-1779624000-1779631200@mor-abrohom.ch
SUMMARY:Gottesdienst
DESCRIPTION:
URL:https://mor-abrohom.ch/event/gottesdienst-29/
LOCATION:Katholische Kirche Siebnen\, Kirchweg 1\, Siebnen\, 8854\, Schweiz
CATEGORIES:Gottesdienste
END:VEVENT
BEGIN:VEVENT
DTSTART;TZID=Europe/Zurich:20260614T120000
DTEND;TZID=Europe/Zurich:20260614T140000
DTSTAMP:20260420T053057
CREATED:20260215T220949Z
LAST-MODIFIED:20260215T222115Z
UID:2176-1781438400-1781445600@mor-abrohom.ch
SUMMARY:Gottesdienst - Sayfo
DESCRIPTION:
URL:https://mor-abrohom.ch/event/gottesdienst-sayfo/
LOCATION:Katholische Kirche Siebnen\, Kirchweg 1\, Siebnen\, 8854\, Schweiz
CATEGORIES:Gottesdienste,Spezialgottesdienste
END:VEVENT
BEGIN:VEVENT
DTSTART;TZID=Europe/Zurich:20260705T120000
DTEND;TZID=Europe/Zurich:20260705T140000
DTSTAMP:20260420T053057
CREATED:20260215T220949Z
LAST-MODIFIED:20260215T220949Z
UID:2179-1783252800-1783260000@mor-abrohom.ch
SUMMARY:Gottesdienst
DESCRIPTION:
URL:https://mor-abrohom.ch/event/gottesdienst-24/
LOCATION:Katholische Kirche Siebnen\, Kirchweg 1\, Siebnen\, 8854\, Schweiz
CATEGORIES:Gottesdienste
END:VEVENT
BEGIN:VEVENT
DTSTART;TZID=Europe/Zurich:20260906T100000
DTEND;TZID=Europe/Zurich:20260906T120000
DTSTAMP:20260420T053057
CREATED:20260215T220948Z
LAST-MODIFIED:20260215T222243Z
UID:2186-1788688800-1788696000@mor-abrohom.ch
SUMMARY:Ökumenischer Gottesdienst
DESCRIPTION:
URL:https://mor-abrohom.ch/event/gottesdienst-oekumenisch-3/
LOCATION:Katholische Kirche Siebnen\, Kirchweg 1\, Siebnen\, 8854\, Schweiz
CATEGORIES:Gottesdienste,Oekumenische Gottesdienste
END:VEVENT
BEGIN:VEVENT
DTSTART;TZID=Europe/Zurich:20261011T110000
DTEND;TZID=Europe/Zurich:20261011T130000
DTSTAMP:20260420T053057
CREATED:20260215T220947Z
LAST-MODIFIED:20260215T220947Z
UID:2192-1791716400-1791723600@mor-abrohom.ch
SUMMARY:Gottesdienst
DESCRIPTION:
URL:https://mor-abrohom.ch/event/gottesdienst-16/
LOCATION:Katholische Kirche Siebnen\, Kirchweg 1\, Siebnen\, 8854\, Schweiz
CATEGORIES:Gottesdienste
END:VEVENT
BEGIN:VEVENT
DTSTART;TZID=Europe/Zurich:20261101T110000
DTEND;TZID=Europe/Zurich:20261101T130000
DTSTAMP:20260420T053057
CREATED:20260215T220946Z
LAST-MODIFIED:20260215T220946Z
UID:2197-1793530800-1793538000@mor-abrohom.ch
SUMMARY:Gottesdienst
DESCRIPTION:
URL:https://mor-abrohom.ch/event/gottesdienst-11/
LOCATION:Katholische Kirche Siebnen\, Kirchweg 1\, Siebnen\, 8854\, Schweiz
CATEGORIES:Gottesdienste
END:VEVENT
BEGIN:VEVENT
DTSTART;TZID=Europe/Zurich:20261206T120000
DTEND;TZID=Europe/Zurich:20261206T140000
DTSTAMP:20260420T053057
CREATED:20260215T220945Z
LAST-MODIFIED:20260215T220945Z
UID:2204-1796558400-1796565600@mor-abrohom.ch
SUMMARY:Gottesdienst
DESCRIPTION:
URL:https://mor-abrohom.ch/event/gottesdienst-5/
LOCATION:Katholische Kirche Siebnen\, Kirchweg 1\, Siebnen\, 8854\, Schweiz
CATEGORIES:Gottesdienste
END:VEVENT
END:VCALENDAR